BEGIN:VCALENDAR
VERSION:2.0
PRODID:-//Plone.org//NONSGML plone.app.event//EN
X-WR-TIMEZONE:America/Buenos_Aires
BEGIN:VEVENT
SUMMARY:Recital de Piano
DTSTART;TZID=America/Sao_Paulo;VALUE=DATE-TIME:20190705T193000
DTEND;TZID=America/Sao_Paulo;VALUE=DATE-TIME:20190705T203000
DTSTAMP;VALUE=DATE-TIME:20260423T224837Z
UID:bee27cea40ae45fc80ff66eb01cc8cf0@portal.unila.edu.br
CREATED;VALUE=DATE-TIME:20190702T145908Z
DESCRIPTION:Apresentação de fim de semestre dos alunos de Música da UNI
 LA
LAST-MODIFIED;VALUE=DATE-TIME:20190702T165123Z
LOCATION:Miniauditório - Jardim Universitário (Avenida Tarquínio Joslin
  dos Santos\, 1000)
URL:https://portal.unila.edu.br/eventos/recital-de-piano
END:VEVENT
BEGIN:VTIMEZONE
TZID:America/Sao_Paulo
X-LIC-LOCATION:America/Sao_Paulo
BEGIN:STANDARD
DTSTART;VALUE=DATE-TIME:20190216T230000
TZNAME:BRT
TZOFFSETFROM:-0200
TZOFFSETTO:-0300
END:STANDARD
END:VTIMEZONE
END:VCALENDAR
