BEGIN:VCALENDAR
VERSION:2.0
PRODID:-//Plone.org//NONSGML plone.app.event//EN
X-WR-TIMEZONE:America/Buenos_Aires
BEGIN:VEVENT
SUMMARY:Recesso
DTSTART;TZID=America/Sao_Paulo;VALUE=DATE-TIME:20201231T080000
DTEND;TZID=America/Sao_Paulo;VALUE=DATE-TIME:20201231T230000
DTSTAMP;VALUE=DATE-TIME:20260423T224937Z
UID:84f5acc8271c4a498c26ee880611dda3@portal.unila.edu.br
CREATED;VALUE=DATE-TIME:20201218T173156Z
DESCRIPTION:Suspensão das atividades acadêmicas e administrativas
LAST-MODIFIED;VALUE=DATE-TIME:20201218T174948Z
URL:https://portal.unila.edu.br/eventos/recesso-de-ano-novo
END:VEVENT
BEGIN:VTIMEZONE
TZID:America/Sao_Paulo
X-LIC-LOCATION:America/Sao_Paulo
BEGIN:DAYLIGHT
DTSTART;VALUE=DATE-TIME:20201018T010000
TZNAME:BRST
TZOFFSETFROM:-0300
TZOFFSETTO:-0200
END:DAYLIGHT
END:VTIMEZONE
END:VCALENDAR
