BEGIN:VCALENDAR
VERSION:2.0
PRODID:-//Plone.org//NONSGML plone.app.event//EN
X-WR-TIMEZONE:America/Buenos_Aires
BEGIN:VEVENT
SUMMARY:Recepção PPGIELA - Encontro com o Dr. Carlos Bonfim
DTSTART;TZID=America/Buenos_Aires;VALUE=DATE-TIME:20220429T150000
DTEND;TZID=America/Buenos_Aires;VALUE=DATE-TIME:20220429T180000
DTSTAMP;VALUE=DATE-TIME:20260424T032213Z
UID:e47c2fa33e2f4fb08f50205d99a6983b@portal.unila.edu.br
CREATED;VALUE=DATE-TIME:20220420T180758Z
DESCRIPTION:Encontro consta das atividades de recepção do PPGIELA
LAST-MODIFIED;VALUE=DATE-TIME:20220420T180822Z
LOCATION:Jardim Universitário e Online
URL:https://portal.unila.edu.br/eventos/recepcao-ppgiela-encontro-com-o-dr
 -carlos-bonfim
END:VEVENT
BEGIN:VTIMEZONE
TZID:America/Buenos_Aires
X-LIC-LOCATION:America/Buenos_Aires
BEGIN:STANDARD
DTSTART;VALUE=DATE-TIME:20090314T230000
TZNAME:ART
TZOFFSETFROM:-0200
TZOFFSETTO:-0300
END:STANDARD
END:VTIMEZONE
END:VCALENDAR
