BEGIN:VCALENDAR
VERSION:2.0
PRODID:-//Plone.org//NONSGML plone.app.event//EN
X-WR-TIMEZONE:America/Buenos_Aires
BEGIN:VEVENT
SUMMARY:Recepção e Acolhimento de Estudantes
DTSTART;TZID=America/Buenos_Aires;VALUE=DATE-TIME:20220418T093000
DTEND;TZID=America/Buenos_Aires;VALUE=DATE-TIME:20220418T183000
DTSTAMP;VALUE=DATE-TIME:20260421T235945Z
UID:33aaa598fea74308bd1d4c221645ca10@portal.unila.edu.br
CREATED;VALUE=DATE-TIME:20220413T183303Z
DESCRIPTION:Programação para estudantes marca retorno às aulas
LAST-MODIFIED;VALUE=DATE-TIME:20220413T183646Z
LOCATION:Auditório do Campus Integração
URL:https://portal.unila.edu.br/eventos/recepcao-e-acolhimento-de-estudant
 es
END:VEVENT
BEGIN:VTIMEZONE
TZID:America/Buenos_Aires
X-LIC-LOCATION:America/Buenos_Aires
BEGIN:STANDARD
DTSTART;VALUE=DATE-TIME:20090314T230000
TZNAME:ART
TZOFFSETFROM:-0200
TZOFFSETTO:-0300
END:STANDARD
END:VTIMEZONE
END:VCALENDAR
