BEGIN:VCALENDAR
VERSION:2.0
PRODID:-//Plone.org//NONSGML plone.app.event//EN
X-WR-TIMEZONE:America/Buenos_Aires
BEGIN:VEVENT
SUMMARY:Recepção aos Calouros
DTSTART;VALUE=DATE:20190307
DTEND;VALUE=DATE:20190309
DTSTAMP;VALUE=DATE-TIME:20260423T210021Z
UID:0e898579ceca4f99869f794dba30b7c0@portal.unila.edu.br
CREATED;VALUE=DATE-TIME:20190111T194331Z
DESCRIPTION:Atividades de recepção e acolhimento aos calouros
LAST-MODIFIED;VALUE=DATE-TIME:20190112T022530Z
URL:https://portal.unila.edu.br/eventos/recepcao-aos-calouros
END:VEVENT
END:VCALENDAR
