BEGIN:VCALENDAR
VERSION:2.0
PRODID:-//Plone.org//NONSGML plone.app.event//EN
X-WR-TIMEZONE:America/Buenos_Aires
BEGIN:VEVENT
SUMMARY:Proex na Feira Internacional do Livro de Foz do Iguaçu
DTSTART;TZID=America/Buenos_Aires;VALUE=DATE-TIME:20241106T090000
DTEND;TZID=America/Buenos_Aires;VALUE=DATE-TIME:20241110T090000
DTSTAMP;VALUE=DATE-TIME:20260424T114213Z
UID:3e9e8df0d8e047e8a6e0da98f6c507dc@portal.unila.edu.br
CREATED;VALUE=DATE-TIME:20241107T122742Z
DESCRIPTION:A PROEX participa de mais uma edição da Feira\, com atividad
 es no espaço da Feira e na Estação Cultural\, na Vila C.
LAST-MODIFIED;VALUE=DATE-TIME:20241111T150345Z
URL:https://portal.unila.edu.br/eventos/proex-na-feira-internacional-do-li
 vro-de-foz-do-iguacu
END:VEVENT
BEGIN:VTIMEZONE
TZID:America/Buenos_Aires
X-LIC-LOCATION:America/Buenos_Aires
BEGIN:STANDARD
DTSTART;VALUE=DATE-TIME:20090314T230000
TZNAME:ART
TZOFFSETFROM:-0200
TZOFFSETTO:-0300
END:STANDARD
END:VTIMEZONE
END:VCALENDAR
