BEGIN:VCALENDAR
VERSION:2.0
PRODID:-//Plone.org//NONSGML plone.app.event//EN
X-WR-TIMEZONE:America/Buenos_Aires
BEGIN:VEVENT
SUMMARY:Primeira sessão do Cinelatino 2019
DTSTART;TZID=America/Sao_Paulo;VALUE=DATE-TIME:20190319T190000
DTSTAMP;VALUE=DATE-TIME:20260423T225030Z
UID:339f7f228d444b0084c285d1765e0153@portal.unila.edu.br
CREATED;VALUE=DATE-TIME:20190314T203620Z
DESCRIPTION:Será exibido o filme "Café com canela"\, produzido no Recôn
 cavo Baiano
LAST-MODIFIED;VALUE=DATE-TIME:20190314T203807Z
URL:https://portal.unila.edu.br/eventos/primeira-sessao-do-cinelatino-2019
END:VEVENT
BEGIN:VTIMEZONE
TZID:America/Sao_Paulo
X-LIC-LOCATION:America/Sao_Paulo
BEGIN:STANDARD
DTSTART;VALUE=DATE-TIME:20190216T230000
TZNAME:BRT
TZOFFSETFROM:-0200
TZOFFSETTO:-0300
END:STANDARD
END:VTIMEZONE
END:VCALENDAR
