BEGIN:VCALENDAR
VERSION:2.0
PRODID:-//Plone.org//NONSGML plone.app.event//EN
X-WR-TIMEZONE:America/Buenos_Aires
BEGIN:VEVENT
SUMMARY:Primeira Escola de Física Aplicada
DTSTART;VALUE=DATE:20241209
DTEND;VALUE=DATE:20241210
DTSTAMP;VALUE=DATE-TIME:20260424T112242Z
UID:807ddc16e442423a8231e4cfd61693f9@portal.unila.edu.br
CONTACT:https://www.even3.com.br/primeira-escola-de-fisica-aplicada-da-uni
 la-483795/
CREATED;VALUE=DATE-TIME:20241018T115713Z
DESCRIPTION:Evento ocorre de 9 a 13 de dezembro no Parquetec e inscriçõe
 s vão até o dia 1º de dezembro.
LAST-MODIFIED;VALUE=DATE-TIME:20241210T151013Z
LOCATION:UNILA-Parquetec
URL:https://portal.unila.edu.br/eventos/primeira-escola-de-fisica-aplicada
END:VEVENT
END:VCALENDAR
