BEGIN:VCALENDAR
VERSION:2.0
PRODID:-//Plone.org//NONSGML plone.app.event//EN
X-WR-TIMEZONE:America/Buenos_Aires
BEGIN:VEVENT
SUMMARY:Pré-lançamento do livro "Valentía - selección de obras de Alex
  Cubilla"
DTSTART;TZID=America/Buenos_Aires;VALUE=DATE-TIME:20251205T160000
DTSTAMP;VALUE=DATE-TIME:20260423T225735Z
UID:ab79700df212448c874c0afb28497071@portal.unila.edu.br
CREATED;VALUE=DATE-TIME:20251202T153954Z
DESCRIPTION:O pré-lançamento do livro será realizado em 5 de dezembro\,
  às 15h\, no Auditório Lélia Gonzalez (Campus Integração).
LAST-MODIFIED;VALUE=DATE-TIME:20251202T215608Z
LOCATION:UNILA - Campus Integração
URL:https://portal.unila.edu.br/eventos/pre-lancamento-do-livro-valentia-s
 eleccion-de-obras-de-alex-cubilla
END:VEVENT
BEGIN:VTIMEZONE
TZID:America/Buenos_Aires
X-LIC-LOCATION:America/Buenos_Aires
BEGIN:STANDARD
DTSTART;VALUE=DATE-TIME:20090314T230000
TZNAME:ART
TZOFFSETFROM:-0200
TZOFFSETTO:-0300
END:STANDARD
END:VTIMEZONE
END:VCALENDAR
