BEGIN:VCALENDAR
VERSION:2.0
PRODID:-//Plone.org//NONSGML plone.app.event//EN
X-WR-TIMEZONE:America/Buenos_Aires
BEGIN:VEVENT
SUMMARY:Pré-evento do I Congresso Internacional Lixo Zero
DTSTART;TZID=America/Buenos_Aires;VALUE=DATE-TIME:20220511T190000
DTEND;TZID=America/Buenos_Aires;VALUE=DATE-TIME:20220511T220000
DTSTAMP;VALUE=DATE-TIME:20260424T084301Z
UID:d7f277bd6dd442b19e49fd60008edcb3@portal.unila.edu.br
CONTACT:https://www.youtube.com/channel/UC3aUaO3IBKKB0L3R7NBe1Pg
CREATED;VALUE=DATE-TIME:20220509T194053Z
DESCRIPTION:Live marca lançamento do I Congresso Internacional Lizo Zero 
 – LATAM em busca de mudanças na gestão de Resíduos
LAST-MODIFIED;VALUE=DATE-TIME:20220509T194058Z
LOCATION:Online
URL:https://portal.unila.edu.br/eventos/pre-evento-do-i-congresso-internac
 ional-lixo-zero
END:VEVENT
BEGIN:VTIMEZONE
TZID:America/Buenos_Aires
X-LIC-LOCATION:America/Buenos_Aires
BEGIN:STANDARD
DTSTART;VALUE=DATE-TIME:20090314T230000
TZNAME:ART
TZOFFSETFROM:-0200
TZOFFSETTO:-0300
END:STANDARD
END:VTIMEZONE
END:VCALENDAR
