BEGIN:VCALENDAR
VERSION:2.0
PRODID:-//Plone.org//NONSGML plone.app.event//EN
X-WR-TIMEZONE:America/Buenos_Aires
BEGIN:VEVENT
SUMMARY:Pré-conferência Municipal de Políticas para Mulheres
DTSTART;TZID=America/Buenos_Aires;VALUE=DATE-TIME:20250612T140000
DTEND;TZID=America/Buenos_Aires;VALUE=DATE-TIME:20250612T180000
DTSTAMP;VALUE=DATE-TIME:20260422T160347Z
UID:57101e22566b46918ea82dd2083ba360@portal.unila.edu.br
CREATED;VALUE=DATE-TIME:20250606T153404Z
DESCRIPTION:Organizada pela UNILA\, UNIOESTE e IFPR\, a atividade tem como
  temática "As mulheres\, os territórios e as cidades".
LAST-MODIFIED;VALUE=DATE-TIME:20250609T112309Z
LOCATION:UNILA Campus Integração
URL:https://portal.unila.edu.br/eventos/pre-conferencia-das-universidades-
 publicas-de-foz-do-iguacu-de-politicas-para-mulheres
END:VEVENT
BEGIN:VTIMEZONE
TZID:America/Buenos_Aires
X-LIC-LOCATION:America/Buenos_Aires
BEGIN:STANDARD
DTSTART;VALUE=DATE-TIME:20090314T230000
TZNAME:ART
TZOFFSETFROM:-0200
TZOFFSETTO:-0300
END:STANDARD
END:VTIMEZONE
END:VCALENDAR
