BEGIN:VCALENDAR
VERSION:2.0
PRODID:-//Plone.org//NONSGML plone.app.event//EN
X-WR-TIMEZONE:America/Buenos_Aires
BEGIN:VEVENT
SUMMARY:Práticas de Ciência Cidadã para Monitoramento da Dengue
DTSTART;VALUE=DATE:20241216
DTEND;VALUE=DATE:20241217
DTSTAMP;VALUE=DATE-TIME:20260423T225230Z
UID:1fa7623adaaf41f4815c887581eabe87@portal.unila.edu.br
CREATED;VALUE=DATE-TIME:20241209T111711Z
DESCRIPTION:As aulas ocorrerão de 16 de dezembro de 2024 a 28 de fevereir
 o de 2025\, e as inscrições precisam ser feitas até o dia 11 de dezembr
 o.
LAST-MODIFIED;VALUE=DATE-TIME:20241209T112014Z
URL:https://portal.unila.edu.br/eventos/praticas-de-ciencia-cidada-para-mo
 nitoramento-da-dengue
END:VEVENT
END:VCALENDAR
