BEGIN:VCALENDAR
VERSION:2.0
PRODID:-//Plone.org//NONSGML plone.app.event//EN
X-WR-TIMEZONE:America/Buenos_Aires
BEGIN:VEVENT
SUMMARY:Por Elas e por Nós: todos pelos direitos das mulheres
DTSTART;TZID=America/Buenos_Aires;VALUE=DATE-TIME:20220524T190000
DTEND;TZID=America/Buenos_Aires;VALUE=DATE-TIME:20220524T220000
DTSTAMP;VALUE=DATE-TIME:20260424T041330Z
UID:06dec920377f44d79583d26a412f37fc@portal.unila.edu.br
CREATED;VALUE=DATE-TIME:20220524T143101Z
DESCRIPTION:PRAE e CEEGED recebem a Coordenadora da Patrulha Maria da Penh
 a de Foz do Iguaçu\, Subinspetora Iraci Pereira Conceição Segundo para 
 falar sobre prevenção e enfrentamento da violência contra a mulher na u
 niversidade.
LAST-MODIFIED;VALUE=DATE-TIME:20220524T203344Z
LOCATION:Auditório do Campus Integração
URL:https://portal.unila.edu.br/eventos/por-elas-e-por-nos-todos-pelos-dir
 eitos-das-mulheres
END:VEVENT
BEGIN:VTIMEZONE
TZID:America/Buenos_Aires
X-LIC-LOCATION:America/Buenos_Aires
BEGIN:STANDARD
DTSTART;VALUE=DATE-TIME:20090314T230000
TZNAME:ART
TZOFFSETFROM:-0200
TZOFFSETTO:-0300
END:STANDARD
END:VTIMEZONE
END:VCALENDAR
