BEGIN:VCALENDAR
VERSION:2.0
PRODID:-//Plone.org//NONSGML plone.app.event//EN
X-WR-TIMEZONE:America/Buenos_Aires
BEGIN:VEVENT
SUMMARY:Poéticas do Entre
DTSTART;TZID=America/Buenos_Aires;VALUE=DATE-TIME:20230825T090000
DTSTAMP;VALUE=DATE-TIME:20260423T224855Z
UID:63625be130c64a0d94966a02f6202ad7@portal.unila.edu.br
CREATED;VALUE=DATE-TIME:20230822T132604Z
DESCRIPTION:Na sexta-feira (25)\, o coletivo de artistas e projeto de pesq
 uisa e extensão “Poéticas do Entre” organiza uma conversa com a arti
 sta e professora Carolina Teixeira\, sobre a temática "Deficiência\, uma
  prática política de experiência”.
LAST-MODIFIED;VALUE=DATE-TIME:20230822T132611Z
LOCATION:Remoto
URL:https://portal.unila.edu.br/eventos/poeticas-do-entre
END:VEVENT
BEGIN:VTIMEZONE
TZID:America/Buenos_Aires
X-LIC-LOCATION:America/Buenos_Aires
BEGIN:STANDARD
DTSTART;VALUE=DATE-TIME:20090314T230000
TZNAME:ART
TZOFFSETFROM:-0200
TZOFFSETTO:-0300
END:STANDARD
END:VTIMEZONE
END:VCALENDAR
