BEGIN:VCALENDAR
VERSION:2.0
PRODID:-//Plone.org//NONSGML plone.app.event//EN
X-WR-TIMEZONE:America/Buenos_Aires
BEGIN:VEVENT
SUMMARY:Poéticas do ENTRE Convida para a conversa “Raza y Género en Pe
 rformance”
DTSTART;TZID=America/Buenos_Aires;VALUE=DATE-TIME:20230413T090000
DTSTAMP;VALUE=DATE-TIME:20260423T225513Z
UID:9b1ef764707b4809908d318926579254@portal.unila.edu.br
CONTACT:51982145310\, angilazzareti@gmail.com
CREATED;VALUE=DATE-TIME:20230410T162657Z
DESCRIPTION:As convidadas Doris Difarnecio e Zanele Muholi\, trarão contr
 ibuições relevantes em artes e performance.
LAST-MODIFIED;VALUE=DATE-TIME:20230410T162705Z
LOCATION:Online
URL:https://portal.unila.edu.br/eventos/poeticas-do-entre-convida-para-a-c
 onversa-201craza-y-genero-en-performance201d
END:VEVENT
BEGIN:VTIMEZONE
TZID:America/Buenos_Aires
X-LIC-LOCATION:America/Buenos_Aires
BEGIN:STANDARD
DTSTART;VALUE=DATE-TIME:20090314T230000
TZNAME:ART
TZOFFSETFROM:-0200
TZOFFSETTO:-0300
END:STANDARD
END:VTIMEZONE
END:VCALENDAR
