BEGIN:VCALENDAR
VERSION:2.0
PRODID:-//Plone.org//NONSGML plone.app.event//EN
X-WR-TIMEZONE:America/Buenos_Aires
BEGIN:VEVENT
SUMMARY:Plantão Pedagógico - APU
DTSTART;TZID=America/Buenos_Aires;VALUE=DATE-TIME:20230525T090000
DTEND;TZID=America/Buenos_Aires;VALUE=DATE-TIME:20230525T120000
DTSTAMP;VALUE=DATE-TIME:20260424T001312Z
UID:de40ee8abc5d4c6e9ac0e6046c5e7320@portal.unila.edu.br
CREATED;VALUE=DATE-TIME:20230427T175751Z
DESCRIPTION:Assessoria Pedagógica Universitária (APU) realiza plantões 
 às segundas e quintas-feiras no mês de maio
LAST-MODIFIED;VALUE=DATE-TIME:20230502T191238Z
LOCATION:Jardim Universitário - Sala C102
URL:https://portal.unila.edu.br/eventos/plantao-pedagogico-apu/2023-05-25
END:VEVENT
BEGIN:VTIMEZONE
TZID:America/Buenos_Aires
X-LIC-LOCATION:America/Buenos_Aires
BEGIN:STANDARD
DTSTART;VALUE=DATE-TIME:20090314T230000
TZNAME:ART
TZOFFSETFROM:-0200
TZOFFSETTO:-0300
END:STANDARD
END:VTIMEZONE
END:VCALENDAR
