BEGIN:VCALENDAR
VERSION:2.0
PRODID:-//Plone.org//NONSGML plone.app.event//EN
X-WR-TIMEZONE:America/Buenos_Aires
BEGIN:VEVENT
SUMMARY:Plantão de Orientação: Processo de Seleção de refugiadas (os)
  e portadoras (es) de visto humanitário na UNILA
DTSTART;TZID=America/Buenos_Aires;VALUE=DATE-TIME:20230508T090000
DTEND;TZID=America/Buenos_Aires;VALUE=DATE-TIME:20230508T120000
DTSTAMP;VALUE=DATE-TIME:20260424T124806Z
UID:7d4dfcf683e54db1ac50923723e22088@portal.unila.edu.br
CREATED;VALUE=DATE-TIME:20230427T171822Z
DESCRIPTION:Integrantes da Cátedra Sérgio Viera de Mello realizam plant
 ão de orientações a interessados em ingressar na UNILA pelo PSRH
LAST-MODIFIED;VALUE=DATE-TIME:20230427T172435Z
LOCATION:Secretaria de Direitos Humanos - Rua Edmundo de Barros\, 237
URL:https://portal.unila.edu.br/eventos/plantao-de-orientacao-processo-de-
 selecao-de-refugiadas-os-e-portadoras-es-de-visto-humanitario-na-unila
END:VEVENT
BEGIN:VTIMEZONE
TZID:America/Buenos_Aires
X-LIC-LOCATION:America/Buenos_Aires
BEGIN:STANDARD
DTSTART;VALUE=DATE-TIME:20090314T230000
TZNAME:ART
TZOFFSETFROM:-0200
TZOFFSETTO:-0300
END:STANDARD
END:VTIMEZONE
END:VCALENDAR
