BEGIN:VCALENDAR
VERSION:2.0
PRODID:-//Plone.org//NONSGML plone.app.event//EN
X-WR-TIMEZONE:America/Buenos_Aires
BEGIN:VEVENT
SUMMARY:Plano de Ocupação da UNILA – audiência sobre a estrutura
DTSTART;TZID=America/Buenos_Aires;VALUE=DATE-TIME:20251029T090000
DTEND;TZID=America/Buenos_Aires;VALUE=DATE-TIME:20251029T120000
DTSTAMP;VALUE=DATE-TIME:20260422T125748Z
UID:e078f1823e6d43789f693421a95c96f6@portal.unila.edu.br
CREATED;VALUE=DATE-TIME:20251020T165032Z
DESCRIPTION:A primeira etapa do Plano de Ocupação das Unidades da UNILA 
 será uma audiência no dia 29 de outubro\, das 9h às 12h\, no Auditório
  Lélia Gonzalez\, no Campus Integração.
LAST-MODIFIED;VALUE=DATE-TIME:20251022T180657Z
LOCATION:UNILA - Campus Integração
URL:https://portal.unila.edu.br/eventos/plano-de-ocupacao-da-unila-audienc
 ia-sobre-a-estrutura
END:VEVENT
BEGIN:VTIMEZONE
TZID:America/Buenos_Aires
X-LIC-LOCATION:America/Buenos_Aires
BEGIN:STANDARD
DTSTART;VALUE=DATE-TIME:20090314T230000
TZNAME:ART
TZOFFSETFROM:-0200
TZOFFSETTO:-0300
END:STANDARD
END:VTIMEZONE
END:VCALENDAR
