BEGIN:VCALENDAR
VERSION:2.0
PRODID:-//Plone.org//NONSGML plone.app.event//EN
X-WR-TIMEZONE:America/Buenos_Aires
BEGIN:VEVENT
SUMMARY:Plano de Ocupação da UNILA - segunda audiência sobre a estrutur
 a
DTSTART;TZID=America/Buenos_Aires;VALUE=DATE-TIME:20251119T140000
DTEND;TZID=America/Buenos_Aires;VALUE=DATE-TIME:20251119T170000
DTSTAMP;VALUE=DATE-TIME:20260423T225216Z
UID:e078f1823e6d43789f693421a95c96f6@portal.unila.edu.br
CREATED;VALUE=DATE-TIME:20251020T165032Z
DESCRIPTION:Audiência será no dia 19 de novembro\, no Itaipu Parquetec\,
  e discutirá a estrutura do Campus Arandu e das demais unidades da UNILA.
LAST-MODIFIED;VALUE=DATE-TIME:20251106T204720Z
LOCATION:ITAIPU Parquetec
URL:https://portal.unila.edu.br/eventos/plano-de-ocupacao-da-unila-2a-audi
 encia-sobre-a-estrutura
END:VEVENT
BEGIN:VTIMEZONE
TZID:America/Buenos_Aires
X-LIC-LOCATION:America/Buenos_Aires
BEGIN:STANDARD
DTSTART;VALUE=DATE-TIME:20090314T230000
TZNAME:ART
TZOFFSETFROM:-0200
TZOFFSETTO:-0300
END:STANDARD
END:VTIMEZONE
END:VCALENDAR
