BEGIN:VCALENDAR
VERSION:2.0
PRODID:-//Plone.org//NONSGML plone.app.event//EN
X-WR-TIMEZONE:America/Buenos_Aires
BEGIN:VEVENT
SUMMARY:Plano de Desenvolvimento Institucional
DTSTART;TZID=America/Buenos_Aires;VALUE=DATE-TIME:20240903T140000
DTSTAMP;VALUE=DATE-TIME:20260423T210144Z
UID:3064aae37074403ebf0ea17983498915@portal.unila.edu.br
CREATED;VALUE=DATE-TIME:20240822T122024Z
DESCRIPTION:No dia 3 de setembro\, a Reitoria e a PROPLAN realizam uma ati
 vidade sobre o PDI voltada a toda a comunidade acadêmica. Evento contará
  com a palestra “O papel da UNILA no âmbito das universidades federais 
 e os desafios futuros”\, ministrada por Tania Mara Francisco\, do MEC.
LAST-MODIFIED;VALUE=DATE-TIME:20240827T122531Z
LOCATION:Auditório do Campus Integração – UNILA - Avenida Tancredo Ne
 ves\, 3147 - Porto Belo
URL:https://portal.unila.edu.br/eventos/plano-de-desenvolvimento-instituci
 onal
END:VEVENT
BEGIN:VTIMEZONE
TZID:America/Buenos_Aires
X-LIC-LOCATION:America/Buenos_Aires
BEGIN:STANDARD
DTSTART;VALUE=DATE-TIME:20090314T230000
TZNAME:ART
TZOFFSETFROM:-0200
TZOFFSETTO:-0300
END:STANDARD
END:VTIMEZONE
END:VCALENDAR
