BEGIN:VCALENDAR
VERSION:2.0
PRODID:-//Plone.org//NONSGML plone.app.event//EN
X-WR-TIMEZONE:America/Buenos_Aires
BEGIN:VEVENT
SUMMARY:Pint of Science
DTSTART;TZID=America/Sao_Paulo;VALUE=DATE-TIME:20200511T190000
DTEND;TZID=America/Sao_Paulo;VALUE=DATE-TIME:20200513T220000
DTSTAMP;VALUE=DATE-TIME:20260423T043539Z
UID:64498bf469b34e61852212b1ed77dd9a@portal.unila.edu.br
CREATED;VALUE=DATE-TIME:20200508T161928Z
DESCRIPTION:O maior festival mundial de divulgação científica terá pro
 gramação on-line nos dias 11\, 12 e 13 de maio
LAST-MODIFIED;VALUE=DATE-TIME:20200508T162140Z
URL:https://portal.unila.edu.br/eventos/pint-of-science
END:VEVENT
BEGIN:VTIMEZONE
TZID:America/Sao_Paulo
X-LIC-LOCATION:America/Sao_Paulo
BEGIN:STANDARD
DTSTART;VALUE=DATE-TIME:20200215T230000
TZNAME:BRT
TZOFFSETFROM:-0200
TZOFFSETTO:-0300
END:STANDARD
END:VTIMEZONE
END:VCALENDAR
