BEGIN:VCALENDAR
VERSION:2.0
PRODID:-//Plone.org//NONSGML plone.app.event//EN
X-WR-TIMEZONE:America/Buenos_Aires
BEGIN:VEVENT
SUMMARY:Pint of Science - Foz do Iguaçu 2024
DTSTART;TZID=America/Buenos_Aires;VALUE=DATE-TIME:20240513T190000
DTEND;TZID=America/Buenos_Aires;VALUE=DATE-TIME:20240516T210000
DTSTAMP;VALUE=DATE-TIME:20260424T021207Z
UID:d5d89b6fba3342719f5db7ca42bdf060@portal.unila.edu.br
CONTACT:marco.azevedo@unila.edu.br\, https://pintofscience.com.br/events/f
 ozdoiguacu
CREATED;VALUE=DATE-TIME:20240509T203302Z
DESCRIPTION:Evento de divulgação científica acontece de 13 a 16 de maio
  em quatro bares de Foz do Iguaçu
LAST-MODIFIED;VALUE=DATE-TIME:20240509T204038Z
LOCATION:4 bares de Foz do Iguaçu
URL:https://portal.unila.edu.br/eventos/pint-of-science-foz-do-iguacu-2024
END:VEVENT
BEGIN:VTIMEZONE
TZID:America/Buenos_Aires
X-LIC-LOCATION:America/Buenos_Aires
BEGIN:STANDARD
DTSTART;VALUE=DATE-TIME:20090314T230000
TZNAME:ART
TZOFFSETFROM:-0200
TZOFFSETTO:-0300
END:STANDARD
END:VTIMEZONE
END:VCALENDAR
