BEGIN:VCALENDAR
VERSION:2.0
PRODID:-//Plone.org//NONSGML plone.app.event//EN
X-WR-TIMEZONE:America/Buenos_Aires
BEGIN:VEVENT
SUMMARY:Palestra promovida pelo PPG-IELA
DTSTART;TZID=America/Sao_Paulo;VALUE=DATE-TIME:20190807T190000
DTEND;TZID=America/Sao_Paulo;VALUE=DATE-TIME:20190807T210000
DTSTAMP;VALUE=DATE-TIME:20260423T224856Z
UID:307a0637fb7541f0ae796cd4839642f6@portal.unila.edu.br
CONTACT:https://programas.unila.edu.br/iela/minicurso-feminismo-materialis
 ta-franc%C3%B3fono
CREATED;VALUE=DATE-TIME:20190709T122142Z
DESCRIPTION:Pax neoliberalia: perspectivas feministas sobre (la reorganiza
 ción de) la violencia contra las mujeres
LAST-MODIFIED;VALUE=DATE-TIME:20190709T145317Z
LOCATION:UNILA - Jardim Universitário (Avenida Tarquínio Joslin dos Sant
 os\, 1000)
URL:https://portal.unila.edu.br/eventos/palestrapax-neoliberalia
END:VEVENT
BEGIN:VTIMEZONE
TZID:America/Sao_Paulo
X-LIC-LOCATION:America/Sao_Paulo
BEGIN:STANDARD
DTSTART;VALUE=DATE-TIME:20190216T230000
TZNAME:BRT
TZOFFSETFROM:-0200
TZOFFSETTO:-0300
END:STANDARD
END:VTIMEZONE
END:VCALENDAR
