BEGIN:VCALENDAR
VERSION:2.0
PRODID:-//Plone.org//NONSGML plone.app.event//EN
X-WR-TIMEZONE:America/Buenos_Aires
BEGIN:VEVENT
SUMMARY:Palestra "Un pacto por la divergencia para garantizar la coexisten
 cia entre mundos: el caso de los Ayllus en Bolivia
DTSTART;TZID=America/Buenos_Aires;VALUE=DATE-TIME:20250414T190000
DTSTAMP;VALUE=DATE-TIME:20260423T151639Z
UID:f0f8f80f343c47b28a2b2ee389bc4745@portal.unila.edu.br
CREATED;VALUE=DATE-TIME:20250403T173247Z
DESCRIPTION:Ministrada por Cristina Rojas (Carleton University\, Canadá)\
 , a palestra será realizada no dia 14 de abril\, às 19h\, no Auditório 
 do Campus Integração.
LAST-MODIFIED;VALUE=DATE-TIME:20250403T173812Z
URL:https://portal.unila.edu.br/eventos/palestra-un-pacto-por-la-divergenc
 ia-para-garantizar-la-coexistencia-entre-mundos-el-caso-de-los-ayllus-en-b
 olivia
END:VEVENT
BEGIN:VTIMEZONE
TZID:America/Buenos_Aires
X-LIC-LOCATION:America/Buenos_Aires
BEGIN:STANDARD
DTSTART;VALUE=DATE-TIME:20090314T230000
TZNAME:ART
TZOFFSETFROM:-0200
TZOFFSETTO:-0300
END:STANDARD
END:VTIMEZONE
END:VCALENDAR
