BEGIN:VCALENDAR
VERSION:2.0
PRODID:-//Plone.org//NONSGML plone.app.event//EN
X-WR-TIMEZONE:America/Buenos_Aires
BEGIN:VEVENT
SUMMARY:Palestra Saúde Única
DTSTART;TZID=America/Buenos_Aires;VALUE=DATE-TIME:20241010T190000
DTSTAMP;VALUE=DATE-TIME:20260424T084110Z
UID:77342db27d784316acfc346746e45333@portal.unila.edu.br
CREATED;VALUE=DATE-TIME:20241007T165621Z
DESCRIPTION:Palestra "Saúde Única" acontece no dia 10 de outubro\, às 1
 9h\, com transmissão pelo YouTube - EAD UNILA.
LAST-MODIFIED;VALUE=DATE-TIME:20241008T140330Z
LOCATION:Youtube - EaD UNILA
URL:https://portal.unila.edu.br/eventos/palestra-saude-unica
END:VEVENT
BEGIN:VTIMEZONE
TZID:America/Buenos_Aires
X-LIC-LOCATION:America/Buenos_Aires
BEGIN:STANDARD
DTSTART;VALUE=DATE-TIME:20090314T230000
TZNAME:ART
TZOFFSETFROM:-0200
TZOFFSETTO:-0300
END:STANDARD
END:VTIMEZONE
END:VCALENDAR
