BEGIN:VCALENDAR
VERSION:2.0
PRODID:-//Plone.org//NONSGML plone.app.event//EN
X-WR-TIMEZONE:America/Buenos_Aires
BEGIN:VEVENT
SUMMARY:Palestra "Os desafios para uma política migratória no Brasil"
DTSTART;TZID=America/Buenos_Aires;VALUE=DATE-TIME:20241105T190000
DTSTAMP;VALUE=DATE-TIME:20260423T225645Z
UID:ccd5162687704c798bdb8b694dda21a4@portal.unila.edu.br
CREATED;VALUE=DATE-TIME:20241029T154650Z
DESCRIPTION:A atividade será conduzida por Paulo Iles\, Coordenador de Re
 lações Institucionais do Centro de Direitos Humanos e Cidadania do Imigr
 ante (CDHIC).
LAST-MODIFIED;VALUE=DATE-TIME:20241029T155340Z
LOCATION:UNILA - Campus Integração
URL:https://portal.unila.edu.br/eventos/palestra-os-desafios-para-uma-poli
 tica-migratoria-no-brasil
END:VEVENT
BEGIN:VTIMEZONE
TZID:America/Buenos_Aires
X-LIC-LOCATION:America/Buenos_Aires
BEGIN:STANDARD
DTSTART;VALUE=DATE-TIME:20090314T230000
TZNAME:ART
TZOFFSETFROM:-0200
TZOFFSETTO:-0300
END:STANDARD
END:VTIMEZONE
END:VCALENDAR
