BEGIN:VCALENDAR
VERSION:2.0
PRODID:-//Plone.org//NONSGML plone.app.event//EN
X-WR-TIMEZONE:America/Buenos_Aires
BEGIN:VEVENT
SUMMARY:Palestra - Migración Venezoelana en Valparaíso: Voces y resilien
 cia en tiempos de crisis
DTSTART;TZID=America/Buenos_Aires;VALUE=DATE-TIME:20230919T190000
DTSTAMP;VALUE=DATE-TIME:20260424T032637Z
UID:2d5b238e855e41e0aae2993cc499568d@portal.unila.edu.br
CONTACT:https://sig.unila.edu.br/eventos/interno/menu.xhtml
CREATED;VALUE=DATE-TIME:20230914T162823Z
LAST-MODIFIED;VALUE=DATE-TIME:20230914T162837Z
LOCATION:Auditório do Campus Integração
URL:https://portal.unila.edu.br/eventos/palestra-migracion-venezoelana-en-
 valparaiso-voces-y-resiliencia-en-tiempos-de-crisis
END:VEVENT
BEGIN:VTIMEZONE
TZID:America/Buenos_Aires
X-LIC-LOCATION:America/Buenos_Aires
BEGIN:STANDARD
DTSTART;VALUE=DATE-TIME:20090314T230000
TZNAME:ART
TZOFFSETFROM:-0200
TZOFFSETTO:-0300
END:STANDARD
END:VTIMEZONE
END:VCALENDAR
