BEGIN:VCALENDAR
VERSION:2.0
PRODID:-//Plone.org//NONSGML plone.app.event//EN
X-WR-TIMEZONE:America/Buenos_Aires
BEGIN:VEVENT
SUMMARY:Palestra "Mediação de Conflitos na Administração Pública"
DTSTART;TZID=America/Buenos_Aires;VALUE=DATE-TIME:20250703T183000
DTSTAMP;VALUE=DATE-TIME:20260422T155121Z
UID:9efdb5168d9f4945b466112d0abb05a9@portal.unila.edu.br
CREATED;VALUE=DATE-TIME:20250611T112058Z
DESCRIPTION:Professora Carolina Ellwanger\, da UFMS\, profere a palestra "
 Mediação de Conflitos na Administração Pública" no dia 3 de julho\, n
 o Campus Integração. Atividade é aberta a toda a comunidade.
LAST-MODIFIED;VALUE=DATE-TIME:20250611T112318Z
LOCATION:UNILA - Campus Integração
URL:https://portal.unila.edu.br/eventos/palestra-mediacao-de-conflitos-na-
 administracao-publica
END:VEVENT
BEGIN:VTIMEZONE
TZID:America/Buenos_Aires
X-LIC-LOCATION:America/Buenos_Aires
BEGIN:STANDARD
DTSTART;VALUE=DATE-TIME:20090314T230000
TZNAME:ART
TZOFFSETFROM:-0200
TZOFFSETTO:-0300
END:STANDARD
END:VTIMEZONE
END:VCALENDAR
