BEGIN:VCALENDAR
VERSION:2.0
PRODID:-//Plone.org//NONSGML plone.app.event//EN
X-WR-TIMEZONE:America/Buenos_Aires
BEGIN:VEVENT
SUMMARY:Palestra "Literatura e desigualdade social"
DTSTART;TZID=America/Buenos_Aires;VALUE=DATE-TIME:20260114T200000
DTSTAMP;VALUE=DATE-TIME:20260420T174241Z
UID:a908e57bc81c4763b7fb35f21c032c0b@portal.unila.edu.br
CREATED;VALUE=DATE-TIME:20260112T142400Z
DESCRIPTION:Palestra "Literatura e desigualdade social: Capitães da Areia
  e Cidade de Deus"\, será no dia 14 de janeiro\, às 20h\, na sala comum 
 do Campus Integração.
LAST-MODIFIED;VALUE=DATE-TIME:20260113T125218Z
LOCATION:UNILA - Campus Integração
URL:https://portal.unila.edu.br/eventos/palestra-literatura-e-desigualdade
 -social
END:VEVENT
BEGIN:VTIMEZONE
TZID:America/Buenos_Aires
X-LIC-LOCATION:America/Buenos_Aires
BEGIN:STANDARD
DTSTART;VALUE=DATE-TIME:20090314T230000
TZNAME:ART
TZOFFSETFROM:-0200
TZOFFSETTO:-0300
END:STANDARD
END:VTIMEZONE
END:VCALENDAR
