BEGIN:VCALENDAR
VERSION:2.0
PRODID:-//Plone.org//NONSGML plone.app.event//EN
X-WR-TIMEZONE:America/Buenos_Aires
BEGIN:VEVENT
SUMMARY:Palestra "La fotografía como patrimonio cultural"
DTSTART;TZID=America/Buenos_Aires;VALUE=DATE-TIME:20251114T140000
DTSTAMP;VALUE=DATE-TIME:20260423T225913Z
UID:c3e6383c90ab444a902616612c6e8d0c@portal.unila.edu.br
CREATED;VALUE=DATE-TIME:20251029T134226Z
DESCRIPTION:Palestra será no dia 14 de novembro\, às 14h\, no Jardim Uni
 versitário\, com a professora Guadalupe Zárate Miguel.
LAST-MODIFIED;VALUE=DATE-TIME:20251029T134257Z
LOCATION:UNILA - Jardim Universitário
URL:https://portal.unila.edu.br/eventos/palestra-la-fotografia-como-patrim
 onio-cultural
END:VEVENT
BEGIN:VTIMEZONE
TZID:America/Buenos_Aires
X-LIC-LOCATION:America/Buenos_Aires
BEGIN:STANDARD
DTSTART;VALUE=DATE-TIME:20090314T230000
TZNAME:ART
TZOFFSETFROM:-0200
TZOFFSETTO:-0300
END:STANDARD
END:VTIMEZONE
END:VCALENDAR
