BEGIN:VCALENDAR
VERSION:2.0
PRODID:-//Plone.org//NONSGML plone.app.event//EN
X-WR-TIMEZONE:America/Buenos_Aires
BEGIN:VEVENT
SUMMARY:Palestra: "Indicadores socioeconômicos para monitoramento e avali
 ação de políticas públicas municipais"
DTSTART;TZID=America/Buenos_Aires;VALUE=DATE-TIME:20211216T193000
DTEND;TZID=America/Buenos_Aires;VALUE=DATE-TIME:20211216T213000
DTSTAMP;VALUE=DATE-TIME:20260424T041349Z
UID:bde113798fdf49fc9274640e3e7944da@portal.unila.edu.br
CREATED;VALUE=DATE-TIME:20211214T202653Z
DESCRIPTION:Evento será nesta quinta-feira (16)\, às 19h30\, com transmi
 ssão ao vivo pelo YouTube
LAST-MODIFIED;VALUE=DATE-TIME:20211214T203058Z
URL:https://portal.unila.edu.br/eventos/palestra-indicadores-socioeconomic
 os-para-monitoramento-e-avaliacao-de-politicas-publicas-municipais
END:VEVENT
BEGIN:VTIMEZONE
TZID:America/Buenos_Aires
X-LIC-LOCATION:America/Buenos_Aires
BEGIN:STANDARD
DTSTART;VALUE=DATE-TIME:20090314T230000
TZNAME:ART
TZOFFSETFROM:-0200
TZOFFSETTO:-0300
END:STANDARD
END:VTIMEZONE
END:VCALENDAR
