BEGIN:VCALENDAR
VERSION:2.0
PRODID:-//Plone.org//NONSGML plone.app.event//EN
X-WR-TIMEZONE:America/Buenos_Aires
BEGIN:VEVENT
SUMMARY:Palestra do IMEA
DTSTART;TZID=America/Sao_Paulo;VALUE=DATE-TIME:20191114T100000
DTEND;TZID=America/Sao_Paulo;VALUE=DATE-TIME:20191114T120000
DTSTAMP;VALUE=DATE-TIME:20260422T191238Z
UID:78c4c50406ea4b8283ad593781556b88@portal.unila.edu.br
CREATED;VALUE=DATE-TIME:20191106T174625Z
DESCRIPTION:"Impactos das novas morfologias do trabalho contemporâneo sob
 re o viver\, o adoecer e o morrer de trabalhadores e trabalhadoras"
LAST-MODIFIED;VALUE=DATE-TIME:20191106T174807Z
LOCATION:Miniauditório do IMEA - UNILA-Vila A (Avenida Silvio Américo Sa
 sdelli\, 1842)
URL:https://portal.unila.edu.br/eventos/palestra-do-imea
END:VEVENT
BEGIN:VTIMEZONE
TZID:America/Sao_Paulo
X-LIC-LOCATION:America/Sao_Paulo
BEGIN:DAYLIGHT
DTSTART;VALUE=DATE-TIME:20191020T010000
TZNAME:BRST
TZOFFSETFROM:-0300
TZOFFSETTO:-0200
END:DAYLIGHT
END:VTIMEZONE
END:VCALENDAR
