BEGIN:VCALENDAR
VERSION:2.0
PRODID:-//Plone.org//NONSGML plone.app.event//EN
X-WR-TIMEZONE:America/Buenos_Aires
BEGIN:VEVENT
SUMMARY:Palestra "Conhecendo os serviços de Saúde Mental de Foz do Igua
 çu"
DTSTART;TZID=America/Buenos_Aires;VALUE=DATE-TIME:20241004T140000
DTSTAMP;VALUE=DATE-TIME:20260424T032308Z
UID:4bf9769fa8b7452ca3ebca59f8e2d3fb@portal.unila.edu.br
CREATED;VALUE=DATE-TIME:20240924T165543Z
DESCRIPTION:A atividade é aberta para toda a comunidade acadêmica e acon
 tece no Campus Integração.
LAST-MODIFIED;VALUE=DATE-TIME:20240924T165800Z
LOCATION:Campus Integração (Av. Tancredo Neves\, 3147)
URL:https://portal.unila.edu.br/eventos/palestra-conhecendo-os-servicos-de
 -saude-mental-de-foz-do-iguacu
END:VEVENT
BEGIN:VTIMEZONE
TZID:America/Buenos_Aires
X-LIC-LOCATION:America/Buenos_Aires
BEGIN:STANDARD
DTSTART;VALUE=DATE-TIME:20090314T230000
TZNAME:ART
TZOFFSETFROM:-0200
TZOFFSETTO:-0300
END:STANDARD
END:VTIMEZONE
END:VCALENDAR
