BEGIN:VCALENDAR
VERSION:2.0
PRODID:-//Plone.org//NONSGML plone.app.event//EN
X-WR-TIMEZONE:America/Buenos_Aires
BEGIN:VEVENT
SUMMARY:Palestra "Compromisso com a integridade: o papel do Canal de Étic
 a do Itaipu Parquetec"
DTSTART;TZID=America/Buenos_Aires;VALUE=DATE-TIME:20250625T133000
DTSTAMP;VALUE=DATE-TIME:20260424T112518Z
UID:6bb1dcf8c4c74c4ab701d367518584e6@portal.unila.edu.br
CREATED;VALUE=DATE-TIME:20250616T205733Z
DESCRIPTION:A atividade será conduzida por Yamany Mathias da Silva\, do I
 taipu Parquetec.
LAST-MODIFIED;VALUE=DATE-TIME:20250616T210324Z
URL:https://portal.unila.edu.br/eventos/palestra-compromisso-com-a-integri
 dade-o-papel-do-canal-de-etica-do-itaipu-parquetec
END:VEVENT
BEGIN:VTIMEZONE
TZID:America/Buenos_Aires
X-LIC-LOCATION:America/Buenos_Aires
BEGIN:STANDARD
DTSTART;VALUE=DATE-TIME:20090314T230000
TZNAME:ART
TZOFFSETFROM:-0200
TZOFFSETTO:-0300
END:STANDARD
END:VTIMEZONE
END:VCALENDAR
