BEGIN:VCALENDAR
VERSION:2.0
PRODID:-//Plone.org//NONSGML plone.app.event//EN
X-WR-TIMEZONE:America/Buenos_Aires
BEGIN:VEVENT
SUMMARY:Palestra: "Como vencer a autossabotagem"
DTSTART;TZID=America/Sao_Paulo;VALUE=DATE-TIME:20181109T080000
DTEND;TZID=America/Sao_Paulo;VALUE=DATE-TIME:20181109T100000
DTSTAMP;VALUE=DATE-TIME:20260423T225008Z
UID:7f695d41cdd24cf28c9b33d2d2c1dad2@tibagi.unila
ATTENDEE;CN="Evento aberto ao público";ROLE=REQ-PARTICIPANT:Evento aberto
  ao público
CREATED;VALUE=DATE-TIME:20181101T175313Z
LAST-MODIFIED;VALUE=DATE-TIME:20190112T022529Z
LOCATION:Miniauditório da Unioeste
URL:https://portal.unila.edu.br/eventos/palestra-como-vencer-a-autossabota
 gem
END:VEVENT
BEGIN:VTIMEZONE
TZID:America/Sao_Paulo
X-LIC-LOCATION:America/Sao_Paulo
BEGIN:DAYLIGHT
DTSTART;VALUE=DATE-TIME:20181021T010000
TZNAME:BRST
TZOFFSETFROM:-0300
TZOFFSETTO:-0200
END:DAYLIGHT
END:VTIMEZONE
END:VCALENDAR
