BEGIN:VCALENDAR
VERSION:2.0
PRODID:-//Plone.org//NONSGML plone.app.event//EN
X-WR-TIMEZONE:America/Buenos_Aires
BEGIN:VEVENT
SUMMARY:Palestra "Collective Personality in the Azteca-Cecropia Mutualism"
DTSTART;TZID=America/Sao_Paulo;VALUE=DATE-TIME:20190502T150000
DTEND;TZID=America/Sao_Paulo;VALUE=DATE-TIME:20190502T160000
DTSTAMP;VALUE=DATE-TIME:20260423T202034Z
UID:3c2505b808f946a596e3bc11d85d5a77@portal.unila.edu.br
CREATED;VALUE=DATE-TIME:20190426T141110Z
DESCRIPTION:Palestra ministrada por Peter Reilly Marting\, pesquisador do 
 Arizona State University | Parque das Aves em Foz do Iguaçu.
LAST-MODIFIED;VALUE=DATE-TIME:20190426T141116Z
LOCATION:Sala G101 - UNILA - Jardim Universitário - Av. Tarquínio Joslin
  dos Santos\, 1000
URL:https://portal.unila.edu.br/eventos/palestra-collective-personality-in
 -the-azteca-cecropia-mutualism
END:VEVENT
BEGIN:VTIMEZONE
TZID:America/Sao_Paulo
X-LIC-LOCATION:America/Sao_Paulo
BEGIN:STANDARD
DTSTART;VALUE=DATE-TIME:20190216T230000
TZNAME:BRT
TZOFFSETFROM:-0200
TZOFFSETTO:-0300
END:STANDARD
END:VTIMEZONE
END:VCALENDAR
