BEGIN:VCALENDAR
VERSION:2.0
PRODID:-//Plone.org//NONSGML plone.app.event//EN
X-WR-TIMEZONE:America/Buenos_Aires
BEGIN:VEVENT
SUMMARY:Palestra sobre assédio moral e sexual
DTSTART;TZID=America/Buenos_Aires;VALUE=DATE-TIME:20250429T183000
DTSTAMP;VALUE=DATE-TIME:20260423T151124Z
UID:fe1145a15a4743dd95d85332e36240fa@portal.unila.edu.br
CREATED;VALUE=DATE-TIME:20250411T130450Z
DESCRIPTION:A palestra “Assédio moral e sexual no serviço público: re
 sponsabilidade e prevenção” será realizada no dia 29 de abril\, às 1
 8h30\, no Auditório do JU\, e será ministrada por Carla Cotta\, Auditora
  Federal de Finanças e Controle.
LAST-MODIFIED;VALUE=DATE-TIME:20250416T172741Z
LOCATION:UNILA - Jardim Universitário
URL:https://portal.unila.edu.br/eventos/palestra-assedio-moral-e-sexual
END:VEVENT
BEGIN:VTIMEZONE
TZID:America/Buenos_Aires
X-LIC-LOCATION:America/Buenos_Aires
BEGIN:STANDARD
DTSTART;VALUE=DATE-TIME:20090314T230000
TZNAME:ART
TZOFFSETFROM:-0200
TZOFFSETTO:-0300
END:STANDARD
END:VTIMEZONE
END:VCALENDAR
