BEGIN:VCALENDAR
VERSION:2.0
PRODID:-//Plone.org//NONSGML plone.app.event//EN
X-WR-TIMEZONE:America/Buenos_Aires
BEGIN:VEVENT
SUMMARY:Palestra: A Intervenção Dialógica junto ao Território como Ref
 erência à Prática Extensionista
DTSTART;VALUE=DATE:20230516
DTEND;VALUE=DATE:20230518
DTSTAMP;VALUE=DATE-TIME:20260423T231020Z
UID:d79fbe010d824638897792007a47da39@portal.unila.edu.br
CREATED;VALUE=DATE-TIME:20230512T135216Z
LAST-MODIFIED;VALUE=DATE-TIME:20230512T135222Z
URL:https://portal.unila.edu.br/eventos/palestra-a-intervencao-dialogica-j
 unto-ao-territorio-como-referencia-a-pratica-extensionista
END:VEVENT
END:VCALENDAR
