BEGIN:VCALENDAR
VERSION:2.0
PRODID:-//Plone.org//NONSGML plone.app.event//EN
X-WR-TIMEZONE:America/Buenos_Aires
BEGIN:VEVENT
SUMMARY:Palestra: A energia eólica e seu potencial na transição energé
 tica
DTSTART;TZID=America/Buenos_Aires;VALUE=DATE-TIME:20240829T140000
DTSTAMP;VALUE=DATE-TIME:20260424T010106Z
UID:a8c3da116a9a4498bcb7876a794e5aa1@portal.unila.edu.br
CREATED;VALUE=DATE-TIME:20240828T190733Z
DESCRIPTION:Palestra ocorre no dia 29 de agosto\, às 14h\, no Auditório 
 Florestan Fernandes 2\, no Parquetec
LAST-MODIFIED;VALUE=DATE-TIME:20240828T190740Z
LOCATION:Parquetec - Florestan Fernandes 2
URL:https://portal.unila.edu.br/eventos/palestra-a-energia-eolica-e-seu-po
 tencial-na-transicao-energetica
END:VEVENT
BEGIN:VTIMEZONE
TZID:America/Buenos_Aires
X-LIC-LOCATION:America/Buenos_Aires
BEGIN:STANDARD
DTSTART;VALUE=DATE-TIME:20090314T230000
TZNAME:ART
TZOFFSETFROM:-0200
TZOFFSETTO:-0300
END:STANDARD
END:VTIMEZONE
END:VCALENDAR
