BEGIN:VCALENDAR
VERSION:2.0
PRODID:-//Plone.org//NONSGML plone.app.event//EN
X-WR-TIMEZONE:America/Buenos_Aires
BEGIN:VEVENT
SUMMARY:Palestra - A descolonização dos saberes psi em debate
DTSTART;TZID=America/Buenos_Aires;VALUE=DATE-TIME:20230926T090000
DTSTAMP;VALUE=DATE-TIME:20260424T032208Z
UID:de99760a95aa4ccf91a94f46fad3dd3a@portal.unila.edu.br
CONTACT:https://forms.gle/XZVgQXJyYwJkExzVA
CREATED;VALUE=DATE-TIME:20230911T191302Z
DESCRIPTION:Programa de Pós-Graduação Interdisciplinar em Estudos Latin
 o-Americanos promove\, no dia 26 de setembro\, a palestra online “A desc
 olonização dos saberes psi em debate”. As inscrições estão abertas.
LAST-MODIFIED;VALUE=DATE-TIME:20230911T191310Z
LOCATION:Remoto
URL:https://portal.unila.edu.br/eventos/palestra-a-descolonizacao-dos-sabe
 res-psi-em-debate
END:VEVENT
BEGIN:VTIMEZONE
TZID:America/Buenos_Aires
X-LIC-LOCATION:America/Buenos_Aires
BEGIN:STANDARD
DTSTART;VALUE=DATE-TIME:20090314T230000
TZNAME:ART
TZOFFSETFROM:-0200
TZOFFSETTO:-0300
END:STANDARD
END:VTIMEZONE
END:VCALENDAR
