BEGIN:VCALENDAR
VERSION:2.0
PRODID:-//Plone.org//NONSGML plone.app.event//EN
X-WR-TIMEZONE:America/Buenos_Aires
BEGIN:VEVENT
SUMMARY:Palestra “Transição energética: papel do petróleo e do hidro
 gênio”
DTSTART;TZID=America/Buenos_Aires;VALUE=DATE-TIME:20251014T190000
DTSTAMP;VALUE=DATE-TIME:20260424T032426Z
UID:cf505f6be6b74bc2ac32c0363e6e835f@portal.unila.edu.br
CREATED;VALUE=DATE-TIME:20251006T124438Z
DESCRIPTION:O evento será realizado dia 14 de outubro\, às 19h\, no audi
 tório do Campus Integração e contará com a presença de José Sergio G
 abrielli\, ex-presidente da Petrobras e docente da Universidade Federal da
  Bahia.
LAST-MODIFIED;VALUE=DATE-TIME:20251006T130122Z
LOCATION:UNILA - Campus Integração
URL:https://portal.unila.edu.br/eventos/palestra-201ctransicao-energetica-
 papel-do-petroleo-e-do-hidrogenio201d
END:VEVENT
BEGIN:VTIMEZONE
TZID:America/Buenos_Aires
X-LIC-LOCATION:America/Buenos_Aires
BEGIN:STANDARD
DTSTART;VALUE=DATE-TIME:20090314T230000
TZNAME:ART
TZOFFSETFROM:-0200
TZOFFSETTO:-0300
END:STANDARD
END:VTIMEZONE
END:VCALENDAR
