BEGIN:VCALENDAR
VERSION:2.0
PRODID:-//Plone.org//NONSGML plone.app.event//EN
X-WR-TIMEZONE:America/Buenos_Aires
BEGIN:VEVENT
SUMMARY:Palestra: “Justiça Internacional\, Meio Ambiente e Deslocamento
 s Forçados”
DTSTART;TZID=America/Sao_Paulo;VALUE=DATE-TIME:20190531T140000
DTEND;TZID=America/Sao_Paulo;VALUE=DATE-TIME:20190531T170000
DTSTAMP;VALUE=DATE-TIME:20260424T112517Z
UID:d16e123f621e428cb56ff121862a10ca@portal.unila.edu.br
CREATED;VALUE=DATE-TIME:20190530T183240Z
DESCRIPTION:Evento acontece nesta sexta-feira (31)\, às 14h\, com a profe
 ssora de Direito Internacional Daiane Moura de Aguiar\, da Universidade An
 hembi Morumbi (SP)
LAST-MODIFIED;VALUE=DATE-TIME:20190530T184303Z
LOCATION:Jardim Universitário (sala C104)
URL:https://portal.unila.edu.br/eventos/palestra-201cjustica-internacional
 -meio-ambiente-e-deslocamentos-forcados201d
END:VEVENT
BEGIN:VTIMEZONE
TZID:America/Sao_Paulo
X-LIC-LOCATION:America/Sao_Paulo
BEGIN:STANDARD
DTSTART;VALUE=DATE-TIME:20190216T230000
TZNAME:BRT
TZOFFSETFROM:-0200
TZOFFSETTO:-0300
END:STANDARD
END:VTIMEZONE
END:VCALENDAR
