BEGIN:VCALENDAR
VERSION:2.0
PRODID:-//Plone.org//NONSGML plone.app.event//EN
X-WR-TIMEZONE:America/Buenos_Aires
BEGIN:VEVENT
SUMMARY:Palestra “Formação de professores de português escrito para s
 urdos"
DTSTART;TZID=America/Buenos_Aires;VALUE=DATE-TIME:20251030T190000
DTEND;TZID=America/Buenos_Aires;VALUE=DATE-TIME:20251030T213000
DTSTAMP;VALUE=DATE-TIME:20260423T225837Z
UID:c5d61cdeccf54b36825395b6450b48d5@portal.unila.edu.br
CREATED;VALUE=DATE-TIME:20251029T104316Z
DESCRIPTION:Palestra “Formação de professores de português escrito pa
 ra surdos: conhecimentos para coconstrução de repertório bilíngue” s
 erá realizada na quinta-feira (30)\, no Jardim Universitário.
LAST-MODIFIED;VALUE=DATE-TIME:20251029T104348Z
LOCATION:UNILA - Jardim Universitário
URL:https://portal.unila.edu.br/eventos/palestra-201cformacao-de-professor
 es-de-portugues-escrito-para-surdos
END:VEVENT
BEGIN:VTIMEZONE
TZID:America/Buenos_Aires
X-LIC-LOCATION:America/Buenos_Aires
BEGIN:STANDARD
DTSTART;VALUE=DATE-TIME:20090314T230000
TZNAME:ART
TZOFFSETFROM:-0200
TZOFFSETTO:-0300
END:STANDARD
END:VTIMEZONE
END:VCALENDAR
