BEGIN:VCALENDAR
VERSION:2.0
PRODID:-//Plone.org//NONSGML plone.app.event//EN
X-WR-TIMEZONE:America/Buenos_Aires
BEGIN:VEVENT
SUMMARY:Painel temático “Mudança climática à luz do Sexto Relatório
  do IPCC”.
DTSTART;TZID=America/Buenos_Aires;VALUE=DATE-TIME:20251125T190000
DTSTAMP;VALUE=DATE-TIME:20260423T225645Z
UID:e76e0301ecf740ca979b1c590b4f09fa@portal.unila.edu.br
CREATED;VALUE=DATE-TIME:20251124T111314Z
DESCRIPTION:No dia 25 de novembro\, UNILA e Acifi promovem um painel temá
 tico sobre “Mudança climática à luz do Sexto Relatório do IPCC”.
LAST-MODIFIED;VALUE=DATE-TIME:20251124T111342Z
URL:https://portal.unila.edu.br/eventos/painel-tematico-201cmudanca-climat
 ica-a-luz-do-sexto-relatorio-do-ipcc201d
END:VEVENT
BEGIN:VTIMEZONE
TZID:America/Buenos_Aires
X-LIC-LOCATION:America/Buenos_Aires
BEGIN:STANDARD
DTSTART;VALUE=DATE-TIME:20090314T230000
TZNAME:ART
TZOFFSETFROM:-0200
TZOFFSETTO:-0300
END:STANDARD
END:VTIMEZONE
END:VCALENDAR
