BEGIN:VCALENDAR
VERSION:2.0
PRODID:-//Plone.org//NONSGML plone.app.event//EN
X-WR-TIMEZONE:America/Buenos_Aires
BEGIN:VEVENT
SUMMARY:Painel sobre a Banca de Heteroidentificação de Cotas Raciais
DTSTART;TZID=America/Sao_Paulo;VALUE=DATE-TIME:20190211T183000
DTEND;TZID=America/Sao_Paulo;VALUE=DATE-TIME:20190211T220000
DTSTAMP;VALUE=DATE-TIME:20260423T225215Z
UID:f52afea628f149a8ac691cb1aa1671fd@portal.unila.edu.br
CREATED;VALUE=DATE-TIME:20190206T202727Z
DESCRIPTION:Comunidade universitária está convidada a participar da reun
 ião pública que apresentará o trabalho da Banca
LAST-MODIFIED;VALUE=DATE-TIME:20190208T172653Z
LOCATION:Fundação Cultural de Foz do Iguaçu - R. Benjamin Constant\, 62
URL:https://portal.unila.edu.br/eventos/painel-sobre-a-banca-de-heteroiden
 tificacao-de-cotas-raciais
END:VEVENT
BEGIN:VTIMEZONE
TZID:America/Sao_Paulo
X-LIC-LOCATION:America/Sao_Paulo
BEGIN:DAYLIGHT
DTSTART;VALUE=DATE-TIME:20181021T010000
TZNAME:BRST
TZOFFSETFROM:-0300
TZOFFSETTO:-0200
END:DAYLIGHT
END:VTIMEZONE
END:VCALENDAR
