BEGIN:VCALENDAR
VERSION:2.0
PRODID:-//Plone.org//NONSGML plone.app.event//EN
X-WR-TIMEZONE:America/Buenos_Aires
BEGIN:VEVENT
SUMMARY:Painel das Agências Espaciais
DTSTART;TZID=America/Buenos_Aires;VALUE=DATE-TIME:20240913T100000
DTSTAMP;VALUE=DATE-TIME:20260424T032111Z
UID:f840e9d422ce44e88c95cc08c81fae97@portal.unila.edu.br
CREATED;VALUE=DATE-TIME:20240910T190748Z
DESCRIPTION:Organizado pela UNILA\, Unioeste e Agência Espacial Brasileir
 a\, o evento faz parte da agenda de reuniões das agências espaciais do G
 20. Atividade será na sexta-feira (13)\, no Itaipu Parquetec.
LAST-MODIFIED;VALUE=DATE-TIME:20240910T190754Z
LOCATION:Itaipu Parquetec - Auditório Cesar Lattes
URL:https://portal.unila.edu.br/eventos/painel-das-agencias-espaciais
END:VEVENT
BEGIN:VTIMEZONE
TZID:America/Buenos_Aires
X-LIC-LOCATION:America/Buenos_Aires
BEGIN:STANDARD
DTSTART;VALUE=DATE-TIME:20090314T230000
TZNAME:ART
TZOFFSETFROM:-0200
TZOFFSETTO:-0300
END:STANDARD
END:VTIMEZONE
END:VCALENDAR
