BEGIN:VCALENDAR
VERSION:2.0
PRODID:-//Plone.org//NONSGML plone.app.event//EN
X-WR-TIMEZONE:America/Buenos_Aires
BEGIN:VEVENT
SUMMARY:Oficinas para os calouros
DTSTART;VALUE=DATE:20190308
DTEND;VALUE=DATE:20190309
DTSTAMP;VALUE=DATE-TIME:20260423T224853Z
UID:a068531bd06f453ca3804ad0560893a3@portal.unila.edu.br
CREATED;VALUE=DATE-TIME:20190228T171914Z
DESCRIPTION:"Cheguei na universidade\, e agora?" e "Saúde mental e autocu
 idado" são temas abordados pelos veteranos para receber os alunos ingress
 antes
LAST-MODIFIED;VALUE=DATE-TIME:20190228T171929Z
LOCATION:Jardim Universitário - Sala C307 (Avenida Tarquínio Joslin dos 
 Santos\, 1000)
URL:https://portal.unila.edu.br/eventos/oficinas-para-os-calouros
END:VEVENT
END:VCALENDAR
