BEGIN:VCALENDAR
VERSION:2.0
PRODID:-//Plone.org//NONSGML plone.app.event//EN
X-WR-TIMEZONE:America/Buenos_Aires
BEGIN:VEVENT
SUMMARY:Paisagens Sonoras e Criação Musical
DTSTART;TZID=America/Buenos_Aires;VALUE=DATE-TIME:20260401T160000
DTEND;TZID=America/Buenos_Aires;VALUE=DATE-TIME:20261202T160000
DTSTAMP;VALUE=DATE-TIME:20260426T001730Z
UID:463790ef0d4b46fdade71a9f7fcb95c8@portal.unila.edu.br
ATTENDEE;CN="Estudantes e qualquer pessoa da comunidade externa.";ROLE=REQ
 -PARTICIPANT:Estudantes e qualquer pessoa da comunidade externa.
CATEGORIES:ilaach
CATEGORIES:curso
CATEGORIES:oficina
CATEGORIES:workshop
CREATED;VALUE=DATE-TIME:20260324T182427Z
DESCRIPTION:Estão abertas as inscrições no Projeto de Extensão Paisage
 ns Sonoras e Criação Musical.
LAST-MODIFIED;VALUE=DATE-TIME:20260331T191247Z
LOCATION:Almada - Sala 106
URL:https://portal.unila.edu.br/eventos/projeto-paisagens-sonoras-e-criaca
 o-musical
END:VEVENT
BEGIN:VEVENT
SUMMARY:Curso Gratuito De Desenho Realista
DTSTART;TZID=America/Buenos_Aires;VALUE=DATE-TIME:20260406T140000
DTEND;TZID=America/Buenos_Aires;VALUE=DATE-TIME:20261130T170000
DTSTAMP;VALUE=DATE-TIME:20260426T001730Z
UID:f12221de377b484087dc3a288f5d4ec3@portal.unila.edu.br
CATEGORIES:proex
CATEGORIES:ilaach
CATEGORIES:estudantes
CATEGORIES:servidores
CATEGORIES:comunidade
CONTACT:https://inscreva.unila.edu.br/events/3356/subscriptions/new
CREATED;VALUE=DATE-TIME:20260330T195808Z
DESCRIPTION:Estão abertas as inscrições para a oficina gratuita de dese
 nho realista “Rostos da Integração: arte como expressão cultural”. 
 Aulas começam no dia 6 de abril.
LAST-MODIFIED;VALUE=DATE-TIME:20260331T200254Z
LOCATION:sala C-113 JU
URL:https://portal.unila.edu.br/eventos/curso-gratuito-de-desenho-realista
END:VEVENT
BEGIN:VEVENT
SUMMARY:Defesa de dissertação - Eliana del Rosario (PPGIELA/UNILA)
DTSTART;TZID=America/Buenos_Aires;VALUE=DATE-TIME:20260427T140000
DTEND;TZID=America/Buenos_Aires;VALUE=DATE-TIME:20260427T170000
DTSTAMP;VALUE=DATE-TIME:20260426T001730Z
UID:fb991811fb6746afa91a9ce3f55f5ffc@portal.unila.edu.br
CATEGORIES:banca (graduação e pós)
CATEGORIES:ilaach
CONTACT:https://conferenciaweb.rnp.br/unila/unila-ppgiela-bancas
CREATED;VALUE=DATE-TIME:20260326T211920Z
DESCRIPTION:Com o título: "Corpos Negros em Movimento: Enquadramento Cine
 matográfico Decolonial em Abya Yala (Latino-América) e o Grande Caribe".
LAST-MODIFIED;VALUE=DATE-TIME:20260326T214635Z
LOCATION:Sala virtual RNP do PPGIELA
URL:https://portal.unila.edu.br/eventos/defesa-de-dissertacao-eliana-del-r
 osario-ppgiela-unila
END:VEVENT
BEGIN:VEVENT
SUMMARY:Defesa de dissertação
DTSTART;TZID=America/Buenos_Aires;VALUE=DATE-TIME:20260429T173000
DTEND;TZID=America/Buenos_Aires;VALUE=DATE-TIME:20260429T190000
DTSTAMP;VALUE=DATE-TIME:20260426T001730Z
UID:af449e99ddf54883b9b1482c4394ed8e@portal.unila.edu.br
CATEGORIES:ppgiela
CONTACT:https://conferenciaweb.rnp.br/unila/unila-ppgiela-bancas
CREATED;VALUE=DATE-TIME:20260416T185043Z
DESCRIPTION:O PPGIELA/UNILA convida a comunidade acadêmica para Defesa de
  dissertação do discente Zion Mohamad Sleima.
LAST-MODIFIED;VALUE=DATE-TIME:20260416T190337Z
LOCATION:Sala virtual RNP do PPGIELA
URL:https://portal.unila.edu.br/eventos/defesa-de-dissertacao
END:VEVENT
BEGIN:VTIMEZONE
TZID:America/Buenos_Aires
X-LIC-LOCATION:America/Buenos_Aires
BEGIN:STANDARD
DTSTART;VALUE=DATE-TIME:20090314T230000
TZNAME:ART
TZOFFSETFROM:-0200
TZOFFSETTO:-0300
END:STANDARD
END:VTIMEZONE
END:VCALENDAR
