BEGIN:VCALENDAR
VERSION:2.0
PRODID:-//Plone.org//NONSGML plone.app.event//EN
X-WR-TIMEZONE:America/Buenos_Aires
BEGIN:VEVENT
SUMMARY:Oficina: "Violência contra a mulher e o papel das instituições 
 e dos servidores públicos"
DTSTART;TZID=America/Sao_Paulo;VALUE=DATE-TIME:20210818T143000
DTEND;TZID=America/Sao_Paulo;VALUE=DATE-TIME:20210818T163000
DTSTAMP;VALUE=DATE-TIME:20260424T010106Z
UID:8d4a588b608144d6a2dc5db7f30a16fb@portal.unila.edu.br
CREATED;VALUE=DATE-TIME:20210816T131643Z
DESCRIPTION:CEEGED promove atividade para esta quarta-feira (18)\, às 14h
 30
LAST-MODIFIED;VALUE=DATE-TIME:20210816T133426Z
URL:https://portal.unila.edu.br/eventos/oficina-violencia-contra-a-mulher-
 e-o-papel-das-instituicoes-e-dos-servidores-publicos
END:VEVENT
BEGIN:VTIMEZONE
TZID:America/Sao_Paulo
X-LIC-LOCATION:America/Sao_Paulo
BEGIN:STANDARD
DTSTART;VALUE=DATE-TIME:20210220T230000
TZNAME:BRT
TZOFFSETFROM:-0200
TZOFFSETTO:-0300
END:STANDARD
END:VTIMEZONE
END:VCALENDAR
