BEGIN:VCALENDAR
VERSION:2.0
PRODID:-//Plone.org//NONSGML plone.app.event//EN
X-WR-TIMEZONE:America/Buenos_Aires
BEGIN:VEVENT
SUMMARY:Oficina sobre Orçamento Participativo na Assistência Estudantil
DTSTART;TZID=America/Sao_Paulo;VALUE=DATE-TIME:20210915T150000
DTEND;TZID=America/Sao_Paulo;VALUE=DATE-TIME:20210915T163000
DTSTAMP;VALUE=DATE-TIME:20260423T225200Z
UID:39963f0d609b4dc890e440b3aa598e55@portal.unila.edu.br
CREATED;VALUE=DATE-TIME:20210913T143941Z
DESCRIPTION:Atividade promovida pela PRAE será nesta quarta-feira (15)\, 
 às 15h\; inscrições via formulário eletrônico
LAST-MODIFIED;VALUE=DATE-TIME:20210913T145204Z
URL:https://portal.unila.edu.br/eventos/oficina-sobre-orcamento-participat
 ivo-na-assistencia-estudantil
END:VEVENT
BEGIN:VTIMEZONE
TZID:America/Sao_Paulo
X-LIC-LOCATION:America/Sao_Paulo
BEGIN:STANDARD
DTSTART;VALUE=DATE-TIME:20210220T230000
TZNAME:BRT
TZOFFSETFROM:-0200
TZOFFSETTO:-0300
END:STANDARD
END:VTIMEZONE
END:VCALENDAR
